BEGIN:VCALENDAR
VERSION:2.0
PRODID:-//Schützenverein Rickensdorf//NONSGML kigkonsult.se iCalcreator 2.3
 0.10//
CALSCALE:GREGORIAN
METHOD:PUBLISH
UID:4d9142ca-0afe-4f3e-be02-84be9278d684
X-WR-CALNAME:iCagenda
X-WR-CALDESC:Event Management Extension for Joomla!
X-WR-RELCALID:3E26604A-50F4-4449-8B3E-E4F4932D05B5
X-WR-TIMEZONE:Europe/Berlin
BEGIN:VTIMEZONE
TZID:Europe/Berlin
BEGIN:STANDARD
TZNAME:CET
DTSTART:20241027T030000
TZOFFSETFROM:+0200
TZOFFSETTO:+0100
RDATE:20251026T030000
END:STANDARD
BEGIN:DAYLIGHT
TZNAME:CEST
DTSTART:20240331T020000
TZOFFSETFROM:+0100
TZOFFSETTO:+0200
RDATE:20250330T020000
RDATE:20260329T020000
END:DAYLIGHT
END:VTIMEZONE
BEGIN:VEVENT
UID:d3b4f455-40c0-424c-996d-185486188189
DTSTAMP:20260422T051114Z
CATEGORIES:Veranstaltung
CLASS:PUBLIC
DESCRIPTION:
DTSTART:20250201T183000Z
DTEND:20250201T183000Z
GEO:+52.357021;+10.970017
LOCATION:SV Rickensdorf
ORGANIZER:
SEQUENCE:1
SUMMARY:Schützenball
TRANSP:OPAQUE
URL:https://www.svrj5.sv-rickensdorf.de/vereinstermine/20-schuetzenball-202
 5/2025-02-01-19-30
END:VEVENT
END:VCALENDAR
