BEGIN:VCALENDAR
VERSION:2.0
PRODID:-//Schützenverein Rickensdorf//NONSGML kigkonsult.se iCalcreator 2.3
 0.10//
CALSCALE:GREGORIAN
METHOD:PUBLISH
UID:81423b5e-d266-4289-90ea-0fb1cff8a696
X-WR-CALNAME:iCagenda
X-WR-CALDESC:Event Management Extension for Joomla!
X-WR-RELCALID:3E26604A-50F4-4449-8B3E-E4F4932D05B5
X-WR-TIMEZONE:Europe/Berlin
BEGIN:VTIMEZONE
TZID:Europe/Berlin
BEGIN:STANDARD
TZNAME:CET
DTSTART:20241027T030000
TZOFFSETFROM:+0200
TZOFFSETTO:+0100
RDATE:20251026T030000
RDATE:20261025T030000
END:STANDARD
BEGIN:DAYLIGHT
TZNAME:CEST
DTSTART:20250330T020000
TZOFFSETFROM:+0100
TZOFFSETTO:+0200
RDATE:20260329T020000
END:DAYLIGHT
END:VTIMEZONE
BEGIN:VEVENT
UID:e2051a42-943f-44cf-aa89-beaab457e322
DTSTAMP:20260423T101203Z
CATEGORIES:Veranstaltung
CLASS:PUBLIC
DESCRIPTION:
DTSTART:20250510T102200Z
DTEND:20250510T102300Z
GEO:+52.357021;+10.970017
LOCATION:Rickensdorf
ORGANIZER:
SEQUENCE:1
SUMMARY:Schützenfest
TRANSP:OPAQUE
URL:https://www.svrj5.sv-rickensdorf.de/vereinstermine/22-schuetzenfest-202
 5/2025-05-10-12-22
END:VEVENT
END:VCALENDAR
